BEGIN:VCALENDAR
VERSION:2.0
PRODID:-//ChamberMaster//Event Calendar 2.0//EN
METHOD:PUBLISH
X-PUBLISHED-TTL:P3D
REFRESH-INTERVAL:P3D
CALSCALE:GREGORIAN
BEGIN:VEVENT
DTSTART:20241107T223000Z
DTEND:20241108T003000Z
X-MICROSOFT-CDO-ALLDAYEVENT:FALSE
SUMMARY:Chamber on Tap - Green Toyota
DESCRIPTION:Green Toyota will host our November Chamber on Tap.  As a local Springfield\, IL Toyota dealership\, our goal is to deliver a world-class experience to our guests on every transaction\, everyday.  This starts with our friendly and welcoming staff\, a clean and modern environment\, and a wide range of services to make your visit pleasant and convenient. \n\n\n\nChamber on Tap is The Chamber's monthly network building event. A member sponsor hosts the event at their facility providing them an opportunity to showcase their company and provide food\, drinks\, and a casual atmosphere conducive for making connections that matter.
X-ALT-DESC;FMTTYPE=text/html:<span style="font-size:16px\;"><span style="font-family:arial\;">Green Toyota will host our November Chamber on Tap.&nbsp\; A<span background-color:="" body="" ddc="" font="" style="color: rgba(0\, 0\, 0\, 0.9)\; font-family: " text-align:="">s a local Springfield\, IL Toyota&nbsp\;dealership\, our goal is to deliver a world-class experience to our guests on every transaction\, everyday.&nbsp\; This starts with our friendly and welcoming staff\, a clean and modern environment\, and a wide range of services to make your visit pleasant and convenient.</span>&nbsp\;</span></span><br />\n<br />\n<span style="font-family: arial\; font-size: 16px\; text-align: center\; white-space-collapse: preserve\;">Chamber on Tap is The Chamber&#39\;s monthly network building event. A member sponsor hosts the event at their facility providing them an opportunity to showcase their company and provide food\, drinks\, and a casual atmosphere conducive for making connections that matter.</span>
LOCATION:Green Toyota
UID:e.2356.25288
SEQUENCE:3
DTSTAMP:20260420T103012Z
URL:https://business.gscc.org/events/details/chamber-on-tap-green-toyota-25288
END:VEVENT

END:VCALENDAR
