BEGIN:VCALENDAR
VERSION:2.0
PRODID:-//ChamberMaster//Event Calendar 2.0//EN
METHOD:PUBLISH
X-PUBLISHED-TTL:P3D
REFRESH-INTERVAL:P3D
CALSCALE:GREGORIAN
BEGIN:VEVENT
DTSTART:20260502T003000Z
DTEND:20260502T020000Z
X-MICROSOFT-CDO-ALLDAYEVENT:FALSE
SUMMARY:Fabulous "Finnish"\, Illinois Symphony Orchestra
DESCRIPTION:Go on a thrilling musical adventure where nostalgia and emotion collide in a truly "Fabulous Finnish" finale to the season. The spirit of the open road comes alive in the world premiere of Reverie on the Mother Road by Illinois composer Michelle Isaac\, written to celebrate the 100th anniversary of the iconic Route 66.\n\n\n\nThe journey continues with Rachmaninoff's electrifying Rhapsody on a Theme of Paganini\, featuring renowned pianist Janice Carissa\, delivering dazzling virtuosity and deep passion. The evening culminates in the triumphant sweep of Sibelius's Second Symphony\, bringing this exhilarating season to an unforgettable close\n\n\n\nTickets start at $30! Go to ilsymphony.org/spfabulous to get your seats for a live music experience today!
X-ALT-DESC;FMTTYPE=text/html:Go on a thrilling musical adventure where nostalgia and emotion collide in a truly &ldquo\;Fabulous Finnish&rdquo\; finale to the season. The spirit of the open road comes alive in the world premiere of Reverie on the Mother Road by Illinois composer Michelle Isaac\, written to celebrate the 100th anniversary of the iconic Route 66.<br />\n<br />\nThe journey continues with Rachmaninoff&rsquo\;s electrifying Rhapsody on a Theme of Paganini\, featuring renowned pianist Janice Carissa\, delivering dazzling virtuosity and deep passion. The evening culminates in the triumphant sweep of Sibelius&rsquo\;s Second Symphony\, bringing this exhilarating season to an unforgettable close<br />\n<br />\nTickets start at $30! Go to ilsymphony.org/spfabulous to get your seats for a live music experience today!
LOCATION:Springfield First United Methodist Church 2941 S Koke Mill Rd Springfield\, IL 62711
UID:e.2356.29410
SEQUENCE:3
DTSTAMP:20260421T225209Z
URL:https://business.gscc.org/events/details/fabulous-finnish-illinois-symphony-orchestra-29410
END:VEVENT

END:VCALENDAR
