BEGIN:VCALENDAR
VERSION:2.0
PRODID:-//ChamberMaster//Event Calendar 2.0//EN
METHOD:PUBLISH
X-PUBLISHED-TTL:P3D
REFRESH-INTERVAL:P3D
CALSCALE:GREGORIAN
BEGIN:VEVENT
DTSTART:20260529T160000Z
DTEND:20260529T190000Z
X-MICROSOFT-CDO-ALLDAYEVENT:FALSE
SUMMARY:HSHS St. John's Hospital Community Blood Drive Friday 5/29
DESCRIPTION:HSHS St. John's Hospital is hosting a Community Blood Drive at their Hospital at 800 East Carpenter St in Springfield in Centennial Hall from 11am-2pm on Friday 5/29. Appointments are requested. You may call ImpactLife to schedule at 800-747-5401.\n\nAll successful donors will get their choice of an ImpactLife Donor Reward: EGift Card with many redemption options\, donation to charity or bonus points to use in our online Donor Rewards Store.
X-ALT-DESC;FMTTYPE=text/html:HSHS St. John&#39\;s Hospital is hosting a Community Blood Drive at their Hospital at 800 East Carpenter St in Springfield in Centennial Hall from 11am-2pm on Friday 5/29. Appointments are requested. You may call ImpactLife to schedule at 800-747-5401.<br />\nAll successful donors will get their choice of an ImpactLife Donor Reward: EGift Card with many redemption options\, donation to charity or bonus points to use in our online Donor Rewards Store.
LOCATION:HSHS St. John's Hospital Centennial Hall 800 E Carpenter St Springfield
UID:e.2356.29406
SEQUENCE:3
DTSTAMP:20260422T181402Z
URL:https://business.gscc.org/events/details/hshs-st-john-s-hospital-community-blood-drive-friday-5-29-29406
END:VEVENT

END:VCALENDAR
