BEGIN:VCALENDAR
VERSION:2.0
PRODID:-//ChamberMaster//Event Calendar 2.0//EN
METHOD:PUBLISH
X-PUBLISHED-TTL:P3D
REFRESH-INTERVAL:P3D
CALSCALE:GREGORIAN
BEGIN:VEVENT
DTSTART:20260528T200000Z
DTEND:20260528T230000Z
X-MICROSOFT-CDO-ALLDAYEVENT:FALSE
SUMMARY:Riverton Community Blood Drive Thursday 5/28
DESCRIPTION:Riverton is hosting a Community Blood Drive on May 28 from 3-6pm at Riverton Community Hall at 1200 Riverton Road. Appointments are requested. You may call ImpactLife at 800-747-5401 to schedule.\n\nSuccessful donors get an ImpactLife Donor reward of their choice: EGift Card with many redemption options\, donation to charity or bonus points to use in our online Donor Rewards Store.
X-ALT-DESC;FMTTYPE=text/html:Riverton is hosting a Community Blood Drive on May 28 from 3-6pm at Riverton Community Hall at 1200 Riverton Road. Appointments are requested. You may call ImpactLife at 800-747-5401 to schedule.<br />\nSuccessful donors get an ImpactLife Donor reward of their choice: EGift Card with many redemption options\, donation to charity or bonus points to use in our online Donor Rewards Store.
LOCATION:Riverton Community Hall 12 Riverton Road
UID:e.2356.29407
SEQUENCE:3
DTSTAMP:20260422T182013Z
URL:https://business.gscc.org/events/details/riverton-community-blood-drive-thursday-5-28-29407
END:VEVENT

END:VCALENDAR
