BEGIN:VCALENDAR
VERSION:2.0
PRODID:-//ChamberMaster//Event Calendar 2.0//EN
METHOD:PUBLISH
X-PUBLISHED-TTL:P3D
REFRESH-INTERVAL:P3D
CALSCALE:GREGORIAN
BEGIN:VEVENT
DTSTART:20260507T140000Z
DTEND:20260507T164500Z
X-MICROSOFT-CDO-ALLDAYEVENT:FALSE
SUMMARY:Small Business Skill Share National Small Business Week 2026
DESCRIPTION:Sharpen your business skills for a competitive edge.\n\n \n\nJoin Innovate Springfield\, SBDC\, and Illinois Local for a fast-paced morning. Gain actionable tools for success. Your time is valuable\, so we packed four essential business growth pillars into one session.\n\n \n\nMove beyond theory this is a 'skill swap.' Local experts share practical\, ready-to-use strategies for your business.\n\n \n\nCelebrating National Small Business Week 2026\n\nEach year\, National Small Business Week celebrates entrepreneurs who drive our economy. In 2026\, we're doing more we're fueling your next growth chapter.\n\nSmall business owners need more than recognition\; they need solutions to real challenges. That's why this Skill Swap pairs National Small Business Week's spirit with expert-led training. Sharpen your edge\, streamline operations\, and secure your business's future all in one morning. Celebrate your journey and leave with practical tools to thrive.\n\n \n\nWhat is a Skill Swap?\n\nA Skill Swap is a fast event for busy professionals. Get high-impact\, actionable strategies you can use right away.\n\n \n\nWhy Attend?\n\nWant to streamline operations\, find new revenue\, improve health\, or fund expansion? This event gives you the tools modern entrepreneurs need.\n\n \n\nOur Topics and Experts\n\n\n  AI for Business (Landon Kaufman\, ACERTUS): Discover affordable AI tools to reclaim your time and boost efficiency.\n\n  Government Contracting (Devon Travous\, Capital Development Board): Learn the process of doing business with the State of Illinois and discover the pathway to new revenue opportunities.\n\n  Business Lending (Nick Kern\, Growth Corp): Get the inside track on accessing the capital you need to scale and take your business to the next level.\n\n  Stress Management & Health (Dr. Bryne Willey\, AlignLife): Business growth is only sustainable if you are at your best. Learn practical resilience techniques to protect your well-being.\n\n\n \n\nFinal Agenda: May 7th Skill Swap (9:30 AM Start)\n\n| Time | Duration | Activity | Focus | Presenter(s) |\n\n| 9:00   9:30 AM | 30 min | Registration & Networking | Coffee | \n\n| 9:30   9:45 AM | 15 min | Welcome & Overview | Partner Intros | CISBDC\, Innovate\, IL Local |\n\n| 9:45   10:05 AM | 20 min | Skill Swap 1 | AI for Business | TBD |\n\n| 10:05   10:25 AM | 20 min | Skill Swap 2 | IL Gov Contracting | Capital Development Board |\n\n| 10:25   10:35 AM | 10 min | Break | Coffee/Networking |\n\n| 10:35   10:55 AM | 20 min | Skill Swap 3 | Business Lending | Growth Corp |\n\n| 10:55   11:15 AM | 20 min | Skill Swap 4 | Stress Management | AlignLife |\n\n| 11:15   11:30 AM | 15 min | Panel Q&A | Key Takeaways | All |\n\n| 11:30   11:45 AM | 15 min | Networking & Light Lunch | Socializing |\n\n \n\nSchedule:\n\n  9:00 AM: Registration & Networking\n\n  9:30 AM: Welcome & Overview\n\n  9:45 AM: Skill Swap Sessions Begin\n\n  10:25 AM: Morning Break\n\n  10:35 AM: Skill Swap Sessions Continue\n\n  11:15 AM: Panel Q&A\n\n  11:30 AM: Networking & Light Lunch\n\n  11:45 AM: Program Concludes\n\n \n\nImportant information\n\nSpaces are limited register online today. Registration is required for both headcount and access to Innovate Springfield. There is no cost for this event.  Please allow a few extra minutes to check in at our registration desk in the lobby.\n\nFree parking is available in the Horace Mann lot between Jefferson and Madison\, with additional street parking nearby.
X-ALT-DESC;FMTTYPE=text/html:<div><strong>Sharpen your business skills for a competitive edge.</strong></div>\n\n<div>&nbsp\;</div>\n\n<div>Join Innovate Springfield\, SBDC\, and Illinois Local for a fast-paced morning. Gain actionable tools for success. Your time is valuable\, so we packed four essential business growth pillars into one session.</div>\n\n<div>&nbsp\;</div>\n\n<div>Move beyond theory&mdash\;this is a &#39\;skill swap.&#39\; Local experts share practical\, ready-to-use strategies for your business.</div>\n\n<div>&nbsp\;</div>\n\n<div><strong>Celebrating National Small Business Week 2026</strong></div>\n\n<div>Each year\, National Small Business Week celebrates entrepreneurs who drive our economy. In 2026\, we&#39\;re doing more&mdash\;we&#39\;re fueling your next growth chapter.</div>\n\n<div>Small business owners need more than recognition\; they need solutions to real challenges. That&#39\;s why this Skill Swap pairs National Small Business Week&#39\;s spirit with expert-led training. Sharpen your edge\, streamline operations\, and secure your business&#39\;s future&mdash\;all in one morning. Celebrate your journey and leave with practical tools to thrive.</div>\n\n<div>&nbsp\;</div>\n\n<div><strong>What is a Skill Swap?</strong></div>\n\n<div>A Skill Swap is a fast event for busy professionals. Get high-impact\, actionable strategies you can use right away.</div>\n\n<div>&nbsp\;</div>\n\n<div><strong>Why Attend?</strong></div>\n\n<div>Want to streamline operations\, find new revenue\, improve health\, or fund expansion? This event gives you the tools modern entrepreneurs need.</div>\n\n<div>&nbsp\;</div>\n\n<div><strong>Our Topics and Experts</strong></div>\n\n<div>\n<div>&bull\;&nbsp\;<strong>AI for Business (Landon Kaufman\, ACERTUS):</strong>&nbsp\;Discover affordable AI tools to reclaim your time and boost efficiency.</div>\n\n<div>&bull\;&nbsp\;<strong>Government Contracting (Devon Travous\, Capital Development Board):</strong>&nbsp\;Learn the process of doing business with the State of Illinois and discover the pathway to new revenue opportunities.</div>\n\n<div>&bull\;&nbsp\;<strong>Business Lending (Nick Kern\, Growth Corp):</strong>&nbsp\;Get the inside track on accessing the capital you need to scale and take your business to the next level.</div>\n\n<div>&bull\;&nbsp\;<strong>Stress Management &amp\; Health (Dr. Bryne Willey\, AlignLife):</strong>&nbsp\;Business growth is only sustainable if you are at your best. Learn practical resilience techniques to protect your well-being.</div>\n</div>\n\n<div>&nbsp\;</div>\n\n<div><strong>Final Agenda: May 7th Skill Swap (9:30 AM Start)</strong></div>\n\n<div>| Time | Duration | Activity | Focus | Presenter(s) |</div>\n\n<div>| 9:00 &ndash\; 9:30 AM | 30 min | Registration &amp\; Networking | Coffee |&nbsp\;<br />\n| 9:30 &ndash\; 9:45 AM | 15 min | Welcome &amp\; Overview | Partner Intros | CISBDC\, Innovate\, IL Local |<br />\n| 9:45 &ndash\; 10:05 AM | 20 min | Skill Swap 1 | AI for Business | TBD |<br />\n| 10:05 &ndash\; 10:25 AM | 20 min | Skill Swap 2 | IL Gov Contracting | Capital Development Board |<br />\n| 10:25 &ndash\; 10:35 AM | 10 min | Break | Coffee/Networking |<br />\n| 10:35 &ndash\; 10:55 AM | 20 min | Skill Swap 3 | Business Lending | Growth Corp |<br />\n| 10:55 &ndash\; 11:15 AM | 20 min | Skill Swap 4 | Stress Management | AlignLife |<br />\n| 11:15 &ndash\; 11:30 AM | 15 min | Panel Q&amp\;A | Key Takeaways | All |<br />\n| 11:30 &ndash\; 11:45 AM | 15 min | Networking &amp\; Light Lunch | Socializing |</div>\n\n<div>&nbsp\;</div>\n\n<div><strong>Schedule:</strong><br />\n&bull\; 9:00 AM: Registration &amp\; Networking<br />\n&bull\; 9:30 AM: Welcome &amp\; Overview<br />\n&bull\; 9:45 AM: Skill Swap Sessions Begin<br />\n&bull\; 10:25 AM: Morning Break<br />\n&bull\; 10:35 AM: Skill Swap Sessions Continue<br />\n&bull\; 11:15 AM: Panel Q&amp\;A<br />\n&bull\; 11:30 AM: Networking &amp\; Light Lunch<br />\n&bull\; 11:45 AM: Program Concludes</div>\n\n<div>&nbsp\;</div>\n\n<div><strong>Important information</strong></div>\n\n<div>Spaces are limited&mdash\;register online today. Registration is required for both headcount and access to Innovate Springfield. There is no cost for this event. &nbsp\;Please allow a few extra minutes to check in at our registration desk in the lobby.</div>\n\n<div>Free parking is available in the Horace Mann lot between Jefferson and Madison\, with additional street parking nearby.</div>\n
LOCATION:Innovate Springfield -1 Horace Mann Plaza
UID:e.2356.29404
SEQUENCE:3
DTSTAMP:20260422T181732Z
URL:https://business.gscc.org/events/details/small-business-skill-share-national-small-business-week-2026-29404
END:VEVENT

END:VCALENDAR
