BEGIN:VCALENDAR
VERSION:2.0
PRODID:-//ChamberMaster//Event Calendar 2.0//EN
METHOD:PUBLISH
X-PUBLISHED-TTL:P3D
REFRESH-INTERVAL:P3D
CALSCALE:GREGORIAN
BEGIN:VEVENT
DTSTART:20260429T223000Z
DTEND:20260430T000000Z
X-MICROSOFT-CDO-ALLDAYEVENT:FALSE
SUMMARY:Springfield Clinic High School Open House
DESCRIPTION:Join Springfield Clinic on April 29 from 5:30-7PM at the 800 Building to learn more about jobs in health care. Students will get the opportunity to explore different careers throughs simulations and demos. You'll also get the opportunity to tour the 800 building and visit each department to engage in hands-on activities and presentations by Springfield Clinic health care professionals. RSVPs encouraged.
X-ALT-DESC;FMTTYPE=text/html:Join Springfield Clinic on April 29 from 5:30-7PM at the 800 Building to learn more about jobs in health care. Students will get the opportunity to explore different careers throughs simulations and demos. You&#39\;ll also get the opportunity to tour the 800 building and visit each department to engage in hands-on activities and presentations by Springfield Clinic health care professionals. <a href="https://forms.office.com/pages/responsepage.aspx?id=PqD9lcBHhEaL4tvZ-v2VkSE39o_VSfZFkrDHjrRVq5FUMDJHMjhFRlBTQTJSVjY1WDROMlBCV05ZMi4u&amp\;route=shorturl">RSVPs encouraged</a>.
LOCATION:
UID:e.2356.29412
SEQUENCE:3
DTSTAMP:20260422T170322Z
URL:https://business.gscc.org/events/details/springfield-clinic-high-school-open-house-29412
END:VEVENT

END:VCALENDAR
