BEGIN:VCALENDAR
VERSION:2.0
PRODID:-//ChamberMaster//Event Calendar 2.0//EN
METHOD:PUBLISH
X-PUBLISHED-TTL:P3D
REFRESH-INTERVAL:P3D
CALSCALE:GREGORIAN
BEGIN:VEVENT
DTSTART:20260530T160000Z
DTEND:20260530T190000Z
X-MICROSOFT-CDO-ALLDAYEVENT:FALSE
SUMMARY:Springfield Cultural Arts Foundation Community Blood Drive Saturday 5/30
DESCRIPTION:The Springfield Cultural Arts Foundation is hosting a Community Blood Drive on Saturday 5/30 from 11am-2pm at Union Square Park in Springfield at 500 E Madison St. on our ImpactLife Donor Bus. Appointments are requested. Please call ImpactLife to schedule at 800-747-5401.\n\nSuccessful donors will get an ImpactLife Donor Reward of their choice: an EGift Card with many redemption options\, donation to charity or bonus points to use in our online Donor Rewards Store.\n\nIf you can't make it to the Blood Drive\, donate anytime at our Springfield ImpactLife Donor Center at 1999 Wabash Ave & credit Springfield Cultural Arts Foundation.
X-ALT-DESC;FMTTYPE=text/html:The Springfield Cultural Arts Foundation is hosting a Community Blood Drive on Saturday 5/30 from 11am-2pm at Union Square Park in Springfield at 500 E Madison St. on our ImpactLife Donor Bus. Appointments are requested. Please call ImpactLife to schedule at 800-747-5401.<br />\nSuccessful donors will get an ImpactLife Donor Reward of their choice: an EGift Card with many redemption options\, donation to charity or bonus points to use in our online Donor Rewards Store.<br />\nIf you can&#39\;t make it to the Blood Drive\, donate anytime at our Springfield ImpactLife Donor Center at 1999 Wabash Ave &amp\; credit Springfield Cultural Arts Foundation.
LOCATION:Union Square Park 500 E. Madison St Springfield on ImpactLife Donor Bus
UID:e.2356.29411
SEQUENCE:3
DTSTAMP:20260422T181402Z
URL:https://business.gscc.org/events/details/springfield-cultural-arts-foundation-community-blood-drive-saturday-5-30-29411
END:VEVENT

END:VCALENDAR
