BEGIN:VCALENDAR
VERSION:2.0
PRODID:-//ChamberMaster//Event Calendar 2.0//EN
METHOD:PUBLISH
X-PUBLISHED-TTL:P3D
REFRESH-INTERVAL:P3D
CALSCALE:GREGORIAN
BEGIN:VEVENT
DTSTART:20180322T200000Z
DTEND:20180322T230000Z
X-MICROSOFT-CDO-ALLDAYEVENT:FALSE
SUMMARY:The Greater Springfield Chamber Job Fair (Spring 2018)
DESCRIPTION:The Greater Springfield Chamber Job Fair provides members & non-members a cost-effective opportunity to find quality additions to their businesses and organizations.  Presenting Sponsor Lincoln Land Community College and Title Sponsor Express Employment Professionals are partnering with The Chamber to offer this event. \n\n\n\nProspective employees will be coming from all over Sangamon County and central Illinois seeking full-time\, part-time\, or seasonal work and/or changing careers. Job seekers of all ages (high school students\, college students and professionals) and newcomers to the area will be in attendance. \n\n\n\nThe job fair has many large employers from the area registered to attend. These events have a common purpose: to allow companies to screen a large number of candidates in a short period of time. Contact the Chamber at 217-525-1173 to reserve your booth space or obtain additional information on the event.\n\n\n\nClick here to see a list of employers participating at the Job Fair.
X-ALT-DESC;FMTTYPE=text/html:<span style="color:#000000\;">The Greater Springfield Chamber Job&nbsp\;Fair p<span background-color:="" trebuchet="">rovides</span><span background-color:="" trebuchet=""> members &amp\; non-members a cost-effective opportunity to find quality additions to their businesses and organizations.&nbsp\;</span>&nbsp\;Presenting Sponsor Lincoln Land Community College and&nbsp\;Title Sponsor Express Employment Professionals are partnering with The Chamber to offer this&nbsp\;event<strong>.</strong>&nbsp\;<br />\n<br />\nProspective employees will be coming from all over Sangamon County and central Illinois seeking full-time\, part-time\, or seasonal work and/or changing careers. <span background-color:="" font-size:="" style="font-family: sans-serif\, Arial\, Verdana\, " trebuchet="">Job seekers of all ages (high school students\, college students and professionals) and newcomers to the area will be in attendance.&nbsp\;</span><br />\n<br />\nThe&nbsp\;job fair has many large employers from the area registered to attend.&nbsp\;These events have a common purpose: to allow companies to screen a large number of candidates in a short period of time. Contact the Chamber at 217-525-1173 to reserve your booth space or obtain additional information on the event.<br />\n<br />\n<a href="https://chambermaster.blob.core.windows.net/userfiles/UserFiles/chambers/2356/File/CompanyListforWeb.pdf">Click here to see a list of employers participating at the Job Fair.</a> </span>\n<p><br />\n&nbsp\;</p>\n
LOCATION:Crowne Plaza Hotel 3000 South Dirksen Parkway Springfield\, IL 62703
UID:e.2356.8921
SEQUENCE:3
DTSTAMP:20260420T112624Z
URL:https://business.gscc.org/events/details/the-greater-springfield-chamber-job-fair-spring-2018-8921
END:VEVENT

END:VCALENDAR
