BEGIN:VCALENDAR
VERSION:2.0
PRODID:-//ChamberMaster//Event Calendar 2.0//EN
METHOD:PUBLISH
X-PUBLISHED-TTL:P3D
REFRESH-INTERVAL:P3D
CALSCALE:GREGORIAN
BEGIN:VEVENT
DTSTART:20250621T133000Z
DTEND:20250622T220000Z
X-MICROSOFT-CDO-ALLDAYEVENT:FALSE
SUMMARY:USCCA Certified Instructor Course
DESCRIPTION:Upon successfully completing this course\, you will become a USCCA Certified Instructor uniquely authorized to teach the USCCA curriculum\, Concealed Carry and Home Defense Fundamentals\, which includes a wide variety of classes for you to offer.\n\nSaturday and Sunday\, June 21 & 22\, and the cost is $650\n\nThis course has become the nation's leading curriculum for law-abiding Americans seeking professional defensive firearm training\, or to obtain their concealed carry permit. When it comes to firearms fundamentals\, concealed carry and home defense concepts\, you will provide your students with high-quality material and help them understand the 'why' behind training concepts.\n\nThe price includes your classroom training\, your Instructor Toolkit\, range fees for your shooting qualification\, and classroom materials provided for you.\n\nThere is an e-learning pre-requisite that must be completed prior to the day of class.\n\nThe class is limited to 8 students so act fast to reserve your spot!\n\nDon't let the class sell out and miss this opportunity.\n\nWe are located in central Illinois just minutes off I55.\n\nCompletion of this training will provide you with the valuable certification to start your own instruction business\, or bolster your current teaching abilities with the outstanding USCCA curriculum.\n\nClasses will be held at the\n\nEDK Training Center and Services classroom\,\n\n1627 N. 175 East Road\, Pawnee\, IL 62558\n\nHotels and attractions are minutes away.\n\nEdkdefensiveconsultants \n\nEDK Training Center and Services \n\nEddie Kimble Sr.
X-ALT-DESC;FMTTYPE=text/html:<span style="color:rgb(8\, 8\, 9)\; font-family:system-ui\,-apple-system\,blinkmacsystemfont\,.sfnstext-regular\,sans-serif\; font-size:15px">Upon successfully completing this course\, you will become a USCCA Certified Instructor uniquely authorized to teach the USCCA curriculum\, Concealed Carry and Home Defense Fundamentals\, which includes a wide variety of classes for you to offer.</span><br />\n<span style="color:rgb(8\, 8\, 9)\; font-family:system-ui\,-apple-system\,blinkmacsystemfont\,.sfnstext-regular\,sans-serif\; font-size:15px">Saturday and Sunday\, June 21 &amp\; 22\, and the cost is $650</span><br />\n<span style="color:rgb(8\, 8\, 9)\; font-family:system-ui\,-apple-system\,blinkmacsystemfont\,.sfnstext-regular\,sans-serif\; font-size:15px">This course has become the nation&rsquo\;s leading curriculum for law-abiding Americans seeking professional defensive firearm training\, or to obtain their concealed carry permit. When it comes to firearms fundamentals\, concealed carry and home defense concepts\, you will provide your students with high-quality material and help them understand the &lsquo\;why&rsquo\; behind training concepts.</span><br />\n<span style="color:rgb(8\, 8\, 9)\; font-family:system-ui\,-apple-system\,blinkmacsystemfont\,.sfnstext-regular\,sans-serif\; font-size:15px">The price includes your classroom training\, your Instructor Toolkit\, range fees for your shooting qualification\, and classroom materials provided for you.</span><br />\n<span style="color:rgb(8\, 8\, 9)\; font-family:system-ui\,-apple-system\,blinkmacsystemfont\,.sfnstext-regular\,sans-serif\; font-size:15px">There is an e-learning pre-requisite that must be completed prior to the day of class.</span><br />\n<span style="color:rgb(8\, 8\, 9)\; font-family:system-ui\,-apple-system\,blinkmacsystemfont\,.sfnstext-regular\,sans-serif\; font-size:15px">The class is limited to 8 students so act fast to reserve your spot!</span><br />\n<span style="color:rgb(8\, 8\, 9)\; font-family:system-ui\,-apple-system\,blinkmacsystemfont\,.sfnstext-regular\,sans-serif\; font-size:15px">Don&#39\;t let the class sell out and miss this opportunity.</span><br />\n<span style="color:rgb(8\, 8\, 9)\; font-family:system-ui\,-apple-system\,blinkmacsystemfont\,.sfnstext-regular\,sans-serif\; font-size:15px">We are located in central Illinois just minutes off I55.</span><br />\n<span style="color:rgb(8\, 8\, 9)\; font-family:system-ui\,-apple-system\,blinkmacsystemfont\,.sfnstext-regular\,sans-serif\; font-size:15px">Completion of this training will provide you with the valuable certification to start your own instruction business\, or bolster your current teaching abilities with the outstanding USCCA curriculum.</span><br />\n<span style="color:rgb(8\, 8\, 9)\; font-family:system-ui\,-apple-system\,blinkmacsystemfont\,.sfnstext-regular\,sans-serif\; font-size:15px">Classes will be held at the</span><br />\n<span style="color:rgb(8\, 8\, 9)\; font-family:system-ui\,-apple-system\,blinkmacsystemfont\,.sfnstext-regular\,sans-serif\; font-size:15px">EDK Training Center and Services classroom\,</span><br />\n<span style="color:rgb(8\, 8\, 9)\; font-family:system-ui\,-apple-system\,blinkmacsystemfont\,.sfnstext-regular\,sans-serif\; font-size:15px">1627 N. 175 East Road\, Pawnee\, IL 62558</span><br />\n<span style="color:rgb(8\, 8\, 9)\; font-family:system-ui\,-apple-system\,blinkmacsystemfont\,.sfnstext-regular\,sans-serif\; font-size:15px">Hotels and attractions are minutes away.</span><br />\n<span style="color:rgb(8\, 8\, 9)\; font-family:system-ui\,-apple-system\,blinkmacsystemfont\,.sfnstext-regular\,sans-serif\; font-size:15px">Edkdefensiveconsultants&nbsp\;</span><br />\n<span style="color:rgb(8\, 8\, 9)\; font-family:system-ui\,-apple-system\,blinkmacsystemfont\,.sfnstext-regular\,sans-serif\; font-size:15px">EDK Training Center and Services&nbsp\;</span><br />\n<span style="color:rgb(8\, 8\, 9)\; font-family:system-ui\,-apple-system\,blinkmacsystemfont\,.sfnstext-regular\,sans-serif\; font-size:15px">Eddie Kimble Sr.</span>
LOCATION:EDK Training Center and Services 1627 N. 175 East Road Pawnee\, IL. 62558
UID:e.2356.26825
SEQUENCE:3
DTSTAMP:20260420T190244Z
URL:https://business.gscc.org/events/details/uscca-certified-instructor-course-26825
END:VEVENT

END:VCALENDAR
